BEGIN:VCALENDAR
PRODID:-//Solspace/Calendar//EN
VERSION:2.0
CALSCALE:GREGORIAN
BEGIN:VEVENT
UID:e5af4cfdff797bb74d25ef480cb9e4ff@solspace.com
DTSTAMP:20260422T100203
DTSTART:20250519T094500
DTEND:20250519T133000
RRULE:FREQ=MONTHLY;BYDAY=3MO
EXDATE:20260119T094500,20270118T094500,20280117T094500
SUMMARY:The Gathering Place — Dementia Respite
END:VEVENT
BEGIN:VEVENT
UID:7b3bacb8cc0a09bd1988422bfcca41a3@solspace.com
DTSTAMP:20260422T100203
DTSTART:20250624T100000
DTEND:20250624T111500
SUMMARY:Sensory Health and Your Brain
END:VEVENT
BEGIN:VEVENT
UID:a5299c753a230f79c7ec5f38c256026e@solspace.com
DTSTAMP:20260422T100203
DTSTART:20250819T093000
DTEND:20250819T113000
SUMMARY:Mahjong Classes Begin
END:VEVENT
BEGIN:VEVENT
UID:89d83938fd9499f075fbdb96b0cbeab9@solspace.com
DTSTAMP:20260422T100203
DTSTART:20250925T090000
DTEND:20250925T120000
SUMMARY:SJD Parish Flu Vaccinations
END:VEVENT
BEGIN:VEVENT
UID:47f567c9d6d4acd1e1d0bef0ad557dfa@solspace.com
DTSTAMP:20260422T100203
DTSTART:20250928T090000
DTEND:20250928T130000
SUMMARY:SJD Parish Flu Vaccinations
END:VEVENT
BEGIN:VEVENT
UID:560b63b064144ee524b5217cb1d8f279@solspace.com
DTSTAMP:20260422T100203
DTSTART:20251118T100000
DTEND:20251118T111500
SUMMARY:Medicare 101 - What Has Changed for 2026?
END:VEVENT
BEGIN:VEVENT
UID:02fb748a0f38e6cdc64c8486ab0030de@solspace.com
DTSTAMP:20260422T100203
DTSTART:20260128T154500
DTEND:20260128T170000
RRULE:FREQ=MONTHLY;UNTIL=20270127T235959Z;BYDAY=4WE
SUMMARY:Teaching Tech for Seniors
END:VEVENT
BEGIN:VEVENT
UID:88e12402a4df82e8a7e7a6e00b90ada5@solspace.com
DTSTAMP:20260422T100203
DTSTART:20260203T100000
DTEND:20260203T120000
SUMMARY:Savvy Express for Caregivers Begins
END:VEVENT
BEGIN:VEVENT
UID:31ad29cf99bfc7dc6e0fe312acb41d01@solspace.com
DTSTAMP:20260422T100203
DTSTART:20260303T100000
DTEND:20260303T120000
RRULE:FREQ=WEEKLY;UNTIL=20260310T235959Z;BYDAY=TU
SUMMARY:Memory Enhancement Training
END:VEVENT
BEGIN:VEVENT
UID:99a0a750f36c2053e5561324e5d03304@solspace.com
DTSTAMP:20260422T100203
DTSTART:20260412T101500
DTEND:20260412T110000
RRULE:FREQ=WEEKLY;UNTIL=20260517T235959Z;BYDAY=SU
SUMMARY:RightCare Ministry: Aging Well Series
END:VEVENT
BEGIN:VEVENT
UID:8146314d0130186cd11d00cba9f7ae41@solspace.com
DTSTAMP:20260422T100203
DTSTART:20260421T093000
DTEND:20260421T113000
SUMMARY:Mahjong: Annual Intro 2026 Card and Strategy
END:VEVENT
BEGIN:VEVENT
UID:05f1a18785607ca7d7bed3aa2fbd28a9@solspace.com
DTSTAMP:20260422T100203
DTSTART:20260421T100000
DTEND:20260421T114500
SUMMARY:Funeral Planning Workshop
END:VEVENT
BEGIN:VEVENT
UID:ad086e17a3fea01b8d8fc2746a5c3eb8@solspace.com
DTSTAMP:20260422T100203
DTSTART:20260424T083000
DTEND:20260424T170000
SUMMARY:Life Line Screening
END:VEVENT
BEGIN:VEVENT
UID:a70a144a24a0e00f59ddbf74e8631cc7@solspace.com
DTSTAMP:20260422T100203
DTSTART:20260428T100000
DTEND:20260428T120000
RRULE:FREQ=WEEKLY;UNTIL=20260512T235959Z;BYDAY=TU
SUMMARY:Amazing Place Aging Roadmap Class
END:VEVENT
BEGIN:VEVENT
UID:24be5bc3d7143ca3ae4421f09db3a360@solspace.com
DTSTAMP:20260422T100203
DTSTART:20260519T100000
DTEND:20260519T110000
SUMMARY:Advance Planning for the Future
END:VEVENT
BEGIN:VEVENT
UID:bb25e39b4ea63fb8733bf31dc122c286@solspace.com
DTSTAMP:20260422T100203
DTSTART:20261209T160000
DTEND:20261209T180000
SUMMARY:Senior's Ministry Christmas Party
END:VEVENT
END:VCALENDAR